BEGIN:VCALENDAR
VERSION:2.0
PRODID:-//eventon.com NONSGML v1.0//EN
CALSCALE:GREGORIAN
METHOD:PUBLISH
BEGIN:VEVENT
UID:69e5f1d0b1210
DTSTAMP:20260420T092848Z
DTSTART:20210830T170000Z
DTEND:20210830T205000Z
LOCATION:Nikos Kazantzakis Open-Air Theatre Heraklion
SUMMARY:The Musical Voyages of Marco Polo
DESCRIPTION:This musical adventure takes us onto the Silk Road\,  following
  the steps of the celebrated Venetian merchant Marco Polo\,  who set out fo
 r China in the 13th century.\nhttps://constantinople.ca/en/events/the-music
 al-voyages-of-marco-polo-2/
URL:https://constantinople.ca/en/events/the-musical-voyages-of-marco-polo-2/
END:VEVENT
END:VCALENDAR