BEGIN:VCALENDAR
VERSION:2.0
PRODID:-//eventon.com NONSGML v1.0//EN
CALSCALE:GREGORIAN
METHOD:PUBLISH
BEGIN:VEVENT
UID:69e7961bb3f02
DTSTAMP:20260421T152203Z
DTSTART:20210918T120000Z
DTEND:20210919T215000Z
LOCATION:Philharmonie de Luxembourg 1 Place de l'Europe
SUMMARY:Constantinople & Loopino (sold out)
DESCRIPTION:Virtuose du sÃ©tar et compositeur acclamÃ©\,  Kiya Tabassian sâ
 €™est taillÃ© une place privilÃ©giÃ©e sur la scÃ¨ne musicale internationale
  avec son ensemble Constantinople et Ã©galement en tant que soliste. PassÃ©
  maÃ®tre dans les mÃ©tissages et les rencontres musicales\,  il parcourt le
 s cinq continents pour prÃ©senter ses crÃ©ations et sa musique sur[..]\nhtt
 ps://constantinople.ca/events/kiya-tabassian/
URL:https://constantinople.ca/events/kiya-tabassian/
END:VEVENT
END:VCALENDAR