BEGIN:VCALENDAR
VERSION:2.0
PRODID:-//eventon.com NONSGML v1.0//EN
CALSCALE:GREGORIAN
METHOD:PUBLISH
BEGIN:VEVENT
UID:69e6409cb78e7
DTSTAMP:20260420T150500Z
DTSTART:20220524T170000Z
DTEND:20220524T205000Z
LOCATION:Kaunas Philharmonic E. Ožeškienės g. 12\,  44252
SUMMARY:Traversées
DESCRIPTION:This meeting and dialogue between the kora and the setar seemed
  to come from the depths of the earth\,  as though these instruments\,  alo
 ng with the viola da gamba and percussion\,  had always existed side by sid
 e.\nhttps://constantinople.ca/en/events/traversees-82/
URL:https://constantinople.ca/en/events/traversees-82/
END:VEVENT
END:VCALENDAR