BEGIN:VCALENDAR
VERSION:2.0
PRODID:-//eventon.com NONSGML v1.0//EN
CALSCALE:GREGORIAN
METHOD:PUBLISH
BEGIN:VEVENT
UID:69e6419fcc2c4
DTSTAMP:20260420T150919Z
DTSTART:20220730T180000Z
DTEND:20220730T215000Z
LOCATION:Mainzer Muziksommer Mainz
SUMMARY:Traversées
DESCRIPTION:The musicians of Constantinople\,  together with Ablaye Cissoko
 \,  a griot from Saint-Louis in Senegal\,  have been wowing audiences aroun
 d the world since 2012. Traversées is the fruit of dialogue and exemplary 
 collaboration between two artists. The concert features original compositio
 ns by both Cissoko and Tabassian\,  and revisits pieces from the[..]\nhttps
 ://constantinople.ca/en/events/traversees-95/
URL:https://constantinople.ca/en/events/traversees-95/
END:VEVENT
END:VCALENDAR