BEGIN:VCALENDAR
VERSION:2.0
PRODID:-//eventon.com NONSGML v1.0//EN
CALSCALE:GREGORIAN
METHOD:PUBLISH
BEGIN:VEVENT
UID:69ebbfd8471b9
DTSTAMP:20260424T190912Z
DTSTART:20221002T000000Z
DTEND:20221002T035000Z
LOCATION:Salle Bourgie\,  Musée des Beaux Arts de Montréal 1339 Rue Sherbrooke Ouest H3G 1G2
SUMMARY:Entre Byzance et la Perse\,  un chant... 
DESCRIPTION:Les ensembles Constantinople et En Chordais sont de nouveau ré
 unis pour présenter une création basée sur leurs plus récentes trouvail
 les dans les manuscrits anciens. Un concert qui met en lumière des chefs-d
 &rsquo;œuvre des traditions musicales persane\,  ottomane et byzantine.\nh
 ttps://constantinople.ca/events/entre-byzance-et-la-perse-un-chant/
URL:https://constantinople.ca/events/entre-byzance-et-la-perse-un-chant/
END:VEVENT
END:VCALENDAR