BEGIN:VCALENDAR
VERSION:2.0
PRODID:-//eventon.com NONSGML v1.0//EN
CALSCALE:GREGORIAN
METHOD:PUBLISH
BEGIN:VEVENT
UID:69ea8a3610bd5
DTSTAMP:20260423T210806Z
DTSTART:20230723T180000Z
DTEND:20230724T035000Z
LOCATION:AMPHITHÉÂTRE FERNAND-LINDSAY
SUMMARY:Il ponte di Leonardo
DESCRIPTION:Marco Beasley\,  a specialist in Renaissance music\,  joins for
 ces with Constantinople to celebrate\,  in music\,  a bridge that Leonardo 
 da Vinci designed in 1502. The longest and boldest bridge of the time\,  it
  was to span the Bosporus and thus link Europe and Asia. But it was never b
 uilt; the[..]\nhttps://constantinople.ca/en/events/il-ponte-di-leonardo-20/
URL:https://constantinople.ca/en/events/il-ponte-di-leonardo-20/
END:VEVENT
END:VCALENDAR