BEGIN:VCALENDAR
VERSION:2.0
PRODID:-//eventon.com NONSGML v1.0//EN
CALSCALE:GREGORIAN
METHOD:PUBLISH
BEGIN:VEVENT
UID:69e4c8ed4d6f3
DTSTAMP:20260419T122205Z
DTSTART:20230726T000000Z
DTEND:20230726T035000Z
LOCATION:Centre des musiciens du monde
SUMMARY:Il ponte di Leonardo
DESCRIPTION:Marco Beasley\,  a specialist in Renaissance music\,  joins for
 ces with Constantinople to celebrate\,  in music\,  a bridge that Leonardo 
 da Vinci designed in 1502. The longest and boldest bridge of the time\,  it
  was to span the Bosporus and thus link Europe and Asia. But it was never b
 uilt; the[..]\nhttps://constantinople.ca/en/events/il-ponte-di-leonardo-23/
URL:https://constantinople.ca/en/events/il-ponte-di-leonardo-23/
END:VEVENT
END:VCALENDAR