BEGIN:VCALENDAR
VERSION:2.0
PRODID:-//eventon.com NONSGML v1.0//EN
CALSCALE:GREGORIAN
METHOD:PUBLISH
BEGIN:VEVENT
UID:69e5f1c3c33aa
DTSTAMP:20260420T092835Z
DTSTART:20241130T191500Z
DTEND:20241130T225900Z
LOCATION:TivoliVredenburg Vredenburgkade 11\,  3511 WC Utrecht\,  Pays-Bas
SUMMARY:The musical voyages of Marco Polo
DESCRIPTION:This musical adventure takes us onto the Silk Road\,  following
  the steps of the celebrated Venetian merchant Marco Polo\,  who set out fo
 r China in the 13th century.\nhttps://constantinople.ca/en/events/the-music
 al-voyages-of-marco-polo-6/
URL:https://constantinople.ca/en/events/the-musical-voyages-of-marco-polo-6/
END:VEVENT
END:VCALENDAR