BEGIN:VCALENDAR
VERSION:2.0
PRODID:-//eventon.com NONSGML v1.0//EN
CALSCALE:GREGORIAN
METHOD:PUBLISH
BEGIN:VEVENT
UID:69e77cae78042
DTSTAMP:20260421T133334Z
DTSTART:20250328T183000Z
DTEND:20250328T225900Z
LOCATION:Reinoldihaus Dortmund Reinoldistraße 7\,  44135 Dortmund\,  Allemagne
SUMMARY:Harant's Odyssey - SOLD OUT!
DESCRIPTION:A musical journey into the world of Czech composer Kryštof Har
 ant (1564-1621) and his travel book that details his odyssey from Prague to
  Jerusalem by way of Venice\,  Cyprus\,  Sinai and Cairo. The international
 ly renowned vocal ensemble Cappella Mariana and Constantinople join forces 
 to revisit Harant’s music and the music[..]\nhttps://constantinople.ca/en
 /events/harants-odyssey-10/
URL:https://constantinople.ca/en/events/harants-odyssey-10/
END:VEVENT
END:VCALENDAR