BEGIN:VCALENDAR
VERSION:2.0
PRODID:-//eventon.com NONSGML v1.0//EN
CALSCALE:GREGORIAN
METHOD:PUBLISH
BEGIN:VEVENT
UID:69e652c004c59
DTSTAMP:20260420T162224Z
DTSTART:20241114T033000Z
DTEND:20241114T075900Z
LOCATION:Christ Chuch Cathedral\,  690 Burrard St.
SUMMARY:re:Orient
DESCRIPTION:re:Orient nous plonge au carrefour de la fascinante tradition m
 usicale coréenne du Pansori et de la musique persane\,  dans ces deux «Or
 ients» riches de cultures et d’héritages musicaux millénaires sophisti
 qués.\nhttps://constantinople.ca/events/reorient-7/
URL:https://constantinople.ca/events/reorient-7/
END:VEVENT
END:VCALENDAR