BEGIN:VCALENDAR
VERSION:2.0
PRODID:-//eventon.com NONSGML v1.0//EN
CALSCALE:GREGORIAN
METHOD:PUBLISH
BEGIN:VEVENT
UID:69e6515d633d8
DTSTAMP:20260420T161629Z
DTSTART:20241115T033000Z
DTEND:20241115T075900Z
LOCATION:Alix Goolden Performance Hall 907 Pandora Ave\,  Victoria\,  BC V8V 3N4
SUMMARY:re:Orient
DESCRIPTION:re:Orient nous plonge au carrefour de la fascinante tradition m
 usicale coréenne du Pansori et de la musique persane\,  dans ces deux «Or
 ients» riches de cultures et d’héritages musicaux millénaires sophisti
 qués.\nhttps://constantinople.ca/events/reorient-9/
URL:https://constantinople.ca/events/reorient-9/
END:VEVENT
END:VCALENDAR