BEGIN:VCALENDAR
VERSION:2.0
PRODID:-//eventon.com NONSGML v1.0//EN
CALSCALE:GREGORIAN
METHOD:PUBLISH
BEGIN:VEVENT
UID:69e77d9c8a44f
DTSTAMP:20260421T133732Z
DTSTART:20250829T180000Z
DTEND:20250829T215900Z
LOCATION:WDR Funkhaus Wallrafpl. 5\,  50667 Köln\,  Allemagne
SUMMARY:Harant's Odyssey
DESCRIPTION:A musical journey into the world of Czech composer Kryštof Har
 ant (1564-1621) and his travel book that details his odyssey from Prague to
  Jerusalem by way of Venice\,  Cyprus\,  Sinai and Cairo. The international
 ly renowned vocal ensemble Cappella Mariana and Constantinople join forces 
 to revisit Harant’s music and the music[..]\nhttps://constantinople.ca/en
 /events/harants-odyssey-13/
URL:https://constantinople.ca/en/events/harants-odyssey-13/
END:VEVENT
END:VCALENDAR