BEGIN:VCALENDAR
VERSION:2.0
PRODID:-//eventon.com NONSGML v1.0//EN
CALSCALE:GREGORIAN
METHOD:PUBLISH
BEGIN:VEVENT
UID:69e6419e9878c
DTSTAMP:20260420T150918Z
DTSTART:20250906T201500Z
DTEND:20250906T225900Z
LOCATION:Conservatoire de Marseille\,  France 2 Pl. Auguste et François Carli\,  13001 Marseille\,  France
SUMMARY:Traversées
DESCRIPTION:This meeting and dialogue between the kora and the setar seemed
  to come from the depths of the earth\,  as though these instruments\,  alo
 ng with the viola da gamba and percussion\,  had always existed side by sid
 e.\nhttps://constantinople.ca/en/events/traversees-174/
URL:https://constantinople.ca/en/events/traversees-174/
END:VEVENT
END:VCALENDAR