BEGIN:VCALENDAR
VERSION:2.0
PRODID:-//eventon.com NONSGML v1.0//EN
CALSCALE:GREGORIAN
METHOD:PUBLISH
BEGIN:VEVENT
UID:69ea1d4621a1b
DTSTAMP:20260423T132318Z
DTSTART:20260215T220000Z
DTEND:20260216T075900Z
LOCATION:Town Hall Seattle 1119 8th Ave\,  Seattle\,  WA 98101\,  États-Unis
SUMMARY:Bach & Khayyam | COMPLET !
DESCRIPTION:Même si plus de 600 ans séparent les vies de John-Sebastien B
 ach (1685 -1715) et Omar Khayyam (1048 -1131)\,  leurs génies étaient fa
 it pour se rencontrer. Leur vision du monde\,  un parfait mélange de maît
 rise des mathématiques couplé à un haut niveau de spiritualité\,  met e
 n dialogue ces deux hommes en[..]\nhttps://constantinople.ca/events/bach-kh
 ayyam-29/
URL:https://constantinople.ca/events/bach-khayyam-29/
END:VEVENT
END:VCALENDAR