BEGIN:VCALENDAR
VERSION:2.0
PRODID:-//eventon.com NONSGML v1.0//EN
CALSCALE:GREGORIAN
METHOD:PUBLISH
BEGIN:VEVENT
UID:69e7588cbf469
DTSTAMP:20260421T105924Z
DTSTART:20260522T000000Z
DTEND:20260522T035900Z
LOCATION:Trinity-St. Paul&#039;s United Church 427 Bloor St W\,  Toronto\,  ON M5S 1X7\,  Canada
SUMMARY:La traversée des Andes
DESCRIPTION:Constantinople &#038; Small World Music présentent : LA TRAVER
 SÉE DES ANDES À la rencontre de la mémoire musicale du Pérou La musique
  des Andes et de l’Amérique du Sud est l’héri­tière des traditions 
 musicales préhispaniques\,  enrichies par l’apport d’instruments et de
  répertoires des peuples qui se sont établis sur les[..]\nhttps://constan
 tinople.ca/events/la-traversee-des-andes-7/
URL:https://constantinople.ca/events/la-traversee-des-andes-7/
END:VEVENT
END:VCALENDAR