BEGIN:VCALENDAR
VERSION:2.0
PRODID:-//eventon.com NONSGML v1.0//EN
CALSCALE:GREGORIAN
METHOD:PUBLISH
BEGIN:VEVENT
UID:69e7c66aa7f21
DTSTAMP:20260421T184810Z
DTSTART:20260522T000000Z
DTEND:20260522T035900Z
LOCATION:Trinity-St. Paul&#039;s United Church
SUMMARY:Crossing the Andes
DESCRIPTION:Constantinople &amp; Small World Music present: Crossing the An
 des This concert revisits Andean and South American music through 17th&#821
 1; and 18th-century manuscripts\,  including Codice Trujillo and Codice Luz
  y Norte. Some popular oral traditions are added to the above sources to en
 rich the musical repertoire\,  in the image of these[..]\nhttps://constanti
 nople.ca/en/events/across-the-andes-6/
URL:https://constantinople.ca/en/events/across-the-andes-6/
END:VEVENT
END:VCALENDAR