BEGIN:VCALENDAR
VERSION:2.0
PRODID:-//eventon.com NONSGML v1.0//EN
CALSCALE:GREGORIAN
METHOD:PUBLISH
BEGIN:VEVENT
UID:69e6410049ffb
DTSTAMP:20260420T150640Z
DTSTART:20251101T183000Z
DTEND:20251101T235900Z
LOCATION:Au Tour des Cordes
SUMMARY:Traversées
DESCRIPTION:This meeting and dialogue between the kora and the setar seemed
  to come from the depths of the earth\,  as though these instruments\,  alo
 ng with the viola da gamba and percussion\,  had always existed side by sid
 e.\nhttps://constantinople.ca/en/events/traversees-178/
URL:https://constantinople.ca/en/events/traversees-178/
END:VEVENT
END:VCALENDAR