BEGIN:VCALENDAR
VERSION:2.0
PRODID:-//eventon.com NONSGML v1.0//EN
CALSCALE:GREGORIAN
METHOD:PUBLISH
BEGIN:VEVENT
UID:69e62a808ac3e
DTSTAMP:20260420T133040Z
DTSTART:20260513T183000Z
DTEND:20260513T215900Z
LOCATION:Auditorio Fuxan os Ventos Rúa Madanela\,  27002 Lugo\,  Espagne
SUMMARY:From Seville to Isfahan
DESCRIPTION:With the great master of the Spanish Renaissance\,  a truly gol
 den age of polyphony came to light. They knew how to incorporate in a mainl
 y French and Flemish context the tracks left by the Moores and Muslim cultu
 res\,  so present in medieval Spain. With Fahmi Alqhai\,  one of the greate
 st[..]\nhttps://constantinople.ca/en/events/from-seville-to-isfahan-13/
URL:https://constantinople.ca/en/events/from-seville-to-isfahan-13/
END:VEVENT
END:VCALENDAR