BEGIN:VCALENDAR
VERSION:2.0
PRODID:-//eventon.com NONSGML v1.0//EN
CALSCALE:GREGORIAN
METHOD:PUBLISH
BEGIN:VEVENT
UID:69e62f5bcf6ce
DTSTAMP:20260420T135123Z
DTSTART:20260513T183000Z
DTEND:20260513T215900Z
LOCATION:Auditorio Fuxan os Ventos Rúa Madanela\,  27002 Lugo\,  Espagne
SUMMARY:De Séville à Ispahan
DESCRIPTION:Avec les grands maîtres de la Renaissance espagnole\,  un vér
 itable âge d’or de la polyphonie a vu le jour. Ils ont su insuffler dans
  un cadre essentiellement franco-flamand les empreintes laissées par les M
 aures et les cultures musulmanes\,  si présents dans l’Espagne médiéva
 le. En compagnie de Fahmi Alqhai\,  l’un des[..]\nhttps://constantinople.
 ca/events/de-seville-a-ispahan-5/
URL:https://constantinople.ca/events/de-seville-a-ispahan-5/
END:VEVENT
END:VCALENDAR