BEGIN:VCALENDAR
VERSION:2.0
PRODID:-//eventon.com NONSGML v1.0//EN
CALSCALE:GREGORIAN
METHOD:PUBLISH
BEGIN:VEVENT
UID:69ea7496126a3
DTSTAMP:20260423T193550Z
DTSTART:20170721T213000Z
DTEND:20170721T235000Z
LOCATION:Errobiko Festibala
SUMMARY:Jardins migrateurs
DESCRIPTION:Une rencontre poétique entre cordes et voix\,  des épopées d
 u Royaume mandingue à la musique persane.\nhttps://constantinople.ca/event
 s/jardins-migrateurs-2/
URL:https://constantinople.ca/events/jardins-migrateurs-2/
END:VEVENT
END:VCALENDAR