BEGIN:VCALENDAR
VERSION:2.0
PRODID:-//eventon.com NONSGML v1.0//EN
CALSCALE:GREGORIAN
METHOD:PUBLISH
BEGIN:VEVENT
UID:69e74f6c4dc51
DTSTAMP:20260421T102028Z
DTSTART:20170505T204500Z
DTEND:20170505T235000Z
LOCATION:Espace Prévert
SUMMARY:Duo Kalaitzidis / Tabassian
DESCRIPTION:Kyriakos Kalaitzidis (En Chordais) et Kiya Tabassian (Constanti
 nople) proposent un nouveau programme en duo (sétar et oud) où ils prése
 ntent leurs compositions\,  improvisations ainsi que leurs trouvailles lors
  de fouilles des manuscrits anciens.\nhttps://constantinople.ca/events/duo-
 kalaitzidis-tabassian/
URL:https://constantinople.ca/events/duo-kalaitzidis-tabassian/
END:VEVENT
END:VCALENDAR