BEGIN:VCALENDAR
VERSION:2.0
PRODID:-//eventon.com NONSGML v1.0//EN
CALSCALE:GREGORIAN
METHOD:PUBLISH
BEGIN:VEVENT
UID:69e73c41b9d69
DTSTAMP:20260421T085841Z
DTSTART:20170920T190000Z
DTEND:20170920T235000Z
LOCATION:Moak Hall\,  Jeonju Int&#039;l Sori Festival
SUMMARY:Opening concert - Sori Festival
DESCRIPTION:Constantinople and its musicians take part in the opening perfo
 rmance at Sori Festival.\nhttps://constantinople.ca/en/events/opening-conce
 rt-sori-festival/
URL:https://constantinople.ca/en/events/opening-concert-sori-festival/
END:VEVENT
END:VCALENDAR