BEGIN:VCALENDAR
VERSION:2.0
PRODID:-//eventon.com NONSGML v1.0//EN
CALSCALE:GREGORIAN
METHOD:PUBLISH
BEGIN:VEVENT
UID:69e73c910abdd
DTSTAMP:20260421T090001Z
DTSTART:20181114T200000Z
DTEND:20181114T235000Z
LOCATION:Grand Théâtre de Québec 269 boulevard René-Lévesque Est
SUMMARY:Sur les traces du griot
DESCRIPTION:Depuis cinq ans\,  les musiciens de Constantinople et le griot
  Ablaye Cissoko parcourent les scènes du monde entier avec leurs Jardins 
 migrateurs. De cette collaboration soutenue sont nées de captivantes nouve
 lles œuvres\,  fruits d’un dialogue et d’une communion exemplaire entr
 e les quatre artistes. Sur les traces du griot est une traversée de[..]\nh
 ttps://constantinople.ca/events/sur-les-traces-du-griot-2/
URL:https://constantinople.ca/events/sur-les-traces-du-griot-2/
END:VEVENT
END:VCALENDAR