BEGIN:VCALENDAR
VERSION:2.0
PRODID:-//eventon.com NONSGML v1.0//EN
CALSCALE:GREGORIAN
METHOD:PUBLISH
BEGIN:VEVENT
UID:69e7560b5e06a
DTSTAMP:20260421T104843Z
DTSTART:20190404T200000Z
DTEND:20190404T235000Z
LOCATION:Grand Théâtre de Québec\,  269 boulevard René-Lévesque Est\,  Québec\,  G1R 2B3
SUMMARY:In the footsteps of Da Vinci
DESCRIPTION:In 1502\,  Leonardo da Vinci designed the plans for what would 
 then be the largest bridge in the world\,  in Istanbul. However\,  the proj
 ect never saw the light of day\,  as Sultan Bayezid II found the artist’s
  project too ambitious. Five hundred years after Da Vinci&rsquo;s death\,  
 this concert will[..]\nhttps://constantinople.ca/en/events/in-the-footsteps
 -of-da-vinci-2/
URL:https://constantinople.ca/en/events/in-the-footsteps-of-da-vinci-2/
END:VEVENT
END:VCALENDAR