BEGIN:VCALENDAR
VERSION:2.0
PRODID:-//eventon.com NONSGML v1.0//EN
CALSCALE:GREGORIAN
METHOD:PUBLISH
BEGIN:VEVENT
UID:69e7503f0adb3
DTSTAMP:20260421T102359Z
DTSTART:20190609T200000Z
DTEND:20190609T235000Z
LOCATION:Grand Théâtre de Québec 269 boulevard René-Lévesque Est
SUMMARY:Sur les traces de Rumi
DESCRIPTION:Sur les traces de Rumi nous fera voyager dans l’univers lumin
 eux des poèmes intemporels du grand Maître de l’Amour. Rythmes\,  danse
 s\,  chants d’amour et complaintes\,  le divin mystique et l’émerveill
 ement sont omniprésents dans les vers de Rumi en persan et en arabe qui se
 ront mis en musique par Kiya Tabassian\, [..]\nhttps://constantinople.ca/ev
 ents/sur-les-traces-de-rumi-2/
URL:https://constantinople.ca/events/sur-les-traces-de-rumi-2/
END:VEVENT
END:VCALENDAR