BEGIN:VCALENDAR
VERSION:2.0
PRODID:-//eventon.com NONSGML v1.0//EN
CALSCALE:GREGORIAN
METHOD:PUBLISH
BEGIN:VEVENT
UID:69e77e042cc02
DTSTAMP:20260421T133916Z
DTSTART:20190609T200000Z
DTEND:20190609T235000Z
LOCATION:Grand Théâtre de Québec\,  269 boulevard René-Lévesque Est\,  Québec\,  G1R 2B3
SUMMARY:In the footsteps of Rumi
DESCRIPTION:This performance takes us on a journey into the shimmering worl
 d of the timeless poems of Rumi\,  the great Master of Love. Rhythms\,  dan
 ces\,  songs of love and lament\,  divine mysticism and wonder are omnipres
 ent in the Arabic &amp; Farsi verses of Rumi\,  set to music by Kiya Tabass
 ian with[..]\nhttps://constantinople.ca/en/events/in-the-footsteps-of-rumi-
 2/
URL:https://constantinople.ca/en/events/in-the-footsteps-of-rumi-2/
END:VEVENT
END:VCALENDAR