BEGIN:VCALENDAR
VERSION:2.0
PRODID:-//eventon.com NONSGML v1.0//EN
CALSCALE:GREGORIAN
METHOD:PUBLISH
BEGIN:VEVENT
UID:69e73be3545fd
DTSTAMP:20260421T085707Z
DTSTART:20180915T203000Z
DTEND:20180915T235000Z
LOCATION:Musée des arts islamiques de Malaisie
SUMMARY:Ciel de l'Iran
DESCRIPTION:La musique règne sans conteste parmi les astres de la civilisa
 tion iranienne et\,  phénomène unique en Orient\,  elle porte en elle la 
 capacité de se renouveler constamment. Aux côtés de l’incontournable m
 aître de cette tradition\,  Kayhan Kalhor\,  Kiya et Ziya Tabassian créen
 t un univers sonore des plus riches et captivants.\nhttps://constantinople.
 ca/events/ciel-de-liran-4/
URL:https://constantinople.ca/events/ciel-de-liran-4/
END:VEVENT
END:VCALENDAR