BEGIN:VCALENDAR
VERSION:2.0
PRODID:-//eventon.com NONSGML v1.0//EN
CALSCALE:GREGORIAN
METHOD:PUBLISH
BEGIN:VEVENT
UID:69e5feda3ae7f
DTSTAMP:20260420T102426Z
DTSTART:20180922T200000Z
DTEND:20180922T235900Z
LOCATION:Jerudong International School Arts Centre
SUMMARY:Ciel de l'Iran
DESCRIPTION:La musique règne sans conteste parmi les astres de la civilisa
 tion iranienne et\,  phénomène unique en Orient\,  elle porte en elle la 
 capacité de se renouveler constamment. Aux côtés de l’incontournable m
 aître de cette tradition\,  Kayhan Kalhor\,  Kiya et Ziya Tabassian créen
 t un univers sonore des plus riches et captivants.\nhttps://constantinople.
 ca/events/ciel-de-liran-5/
URL:https://constantinople.ca/events/ciel-de-liran-5/
END:VEVENT
END:VCALENDAR