BEGIN:VCALENDAR
VERSION:2.0
PRODID:-//eventon.com NONSGML v1.0//EN
CALSCALE:GREGORIAN
METHOD:PUBLISH
BEGIN:VEVENT
UID:69e902f9e461a
DTSTAMP:20260422T171849Z
DTSTART:20180927
DTEND:20180928
LOCATION:Festival Ethnos
SUMMARY:Jardins migrateurs
DESCRIPTION:Une rencontre poétique entre cordes et voix\,  des épopées d
 u Royaume mandingue à la musique persane.\nhttps://constantinople.ca/event
 s/jardins-migrateurs-48/
URL:https://constantinople.ca/events/jardins-migrateurs-48/
END:VEVENT
END:VCALENDAR