BEGIN:VCALENDAR
VERSION:2.0
PRODID:-//eventon.com NONSGML v1.0//EN
CALSCALE:GREGORIAN
METHOD:PUBLISH
BEGIN:VEVENT
UID:69e8da46a0bed
DTSTAMP:20260422T142510Z
DTSTART:20181113T121000Z
DTEND:20181113T235000Z
LOCATION:Chapelle historique du Bon-Pasteur\,  100 Sherbrooke E.
SUMMARY:Constantinople & Ablaye Cissoko
DESCRIPTION:Constantinople &amp; Ablaye Cissoko will present a showcase as 
 part of the Off CINARS 2018. In collaboration with the Conseil québécois 
 de la musique.\nhttps://constantinople.ca/en/events/constantinople-ablaye-c
 issoko-2/
URL:https://constantinople.ca/en/events/constantinople-ablaye-cissoko-2/
END:VEVENT
END:VCALENDAR