BEGIN:VCALENDAR
VERSION:2.0
PRODID:-//eventon.com NONSGML v1.0//EN
CALSCALE:GREGORIAN
METHOD:PUBLISH
BEGIN:VEVENT
UID:69e9044969737
DTSTAMP:20260422T172425Z
DTSTART:20181015T200000Z
DTEND:20181015T235000Z
LOCATION:Musis Stads Theater
SUMMARY:Kiya Tabassian avec l'ensemble Atlas
DESCRIPTION:Kiya Tabassian en concert avec l&rsquo;ensemble Atlas pour pré
 senter l&rsquo;œuvre Nomaden (Joël Bons\,  2016).\nhttps://constantinople
 .ca/events/kiya-tabassian-avec-lensemble-atlas/
URL:https://constantinople.ca/events/kiya-tabassian-avec-lensemble-atlas/
END:VEVENT
END:VCALENDAR