BEGIN:VCALENDAR
VERSION:2.0
PRODID:-//eventon.com NONSGML v1.0//EN
CALSCALE:GREGORIAN
METHOD:PUBLISH
BEGIN:VEVENT
UID:69e612eb8540f
DTSTAMP:20260420T115003Z
DTSTART:20190214T203000Z
DTEND:20190214T235000Z
LOCATION:Studio de l&#039;Ermitage
SUMMARY:Traversées
DESCRIPTION:Dans le cadre de la 12e édition du festival Au fil des voix\, 
  Constantinople &amp; Ablaye Cissoko présentent leur tout nouvel album\,  
 Traversées.\nhttps://constantinople.ca/events/traversees-2/
URL:https://constantinople.ca/events/traversees-2/
END:VEVENT
END:VCALENDAR