BEGIN:VCALENDAR
VERSION:2.0
PRODID:-//eventon.com NONSGML v1.0//EN
CALSCALE:GREGORIAN
METHOD:PUBLISH
BEGIN:VEVENT
UID:69e5fce2cc460
DTSTAMP:20260420T101602Z
DTSTART:20190201T201500Z
DTEND:20190201T235000Z
LOCATION:Muziekgebouw aan &#039;t IJ Piet Heinkade 1\,  1019 BR Amsterdam\,  Pays-Bas
SUMMARY:Collaboration avec Fahmi Alqhai
DESCRIPTION:Kiya Tabassian se joint à Fahmi Alqhai et ses collègues pour 
 le concert « Romances. Entre Orient et Occident » à la Biennale de flame
 nco d&rsquo;Amsterdam.\nhttps://constantinople.ca/events/collaboration-avec
 -fahmi-alqhai-2/
URL:https://constantinople.ca/events/collaboration-avec-fahmi-alqhai-2/
END:VEVENT
END:VCALENDAR