BEGIN:VCALENDAR
VERSION:2.0
PRODID:-//eventon.com NONSGML v1.0//EN
CALSCALE:GREGORIAN
METHOD:PUBLISH
BEGIN:VEVENT
UID:69e6122595548
DTSTAMP:20260420T114645Z
DTSTART:20190201T201500Z
DTEND:20190201T235000Z
LOCATION:Muziekgebouw aan &#039;t IJ\,  Piet Heinkade 1
SUMMARY:Collaboration with Fahmi Alqhai
DESCRIPTION:Kiya Tabassian joins Fahmi Alqhai and his colleagues for the co
 ncert « Romances. Entre Orient y Occidente » at the Bienal of flamenco 
 in Amsterdam.\nhttps://constantinople.ca/en/events/collaboration-with-fahmi
 -alqhai-2/
URL:https://constantinople.ca/en/events/collaboration-with-fahmi-alqhai-2/
END:VEVENT
END:VCALENDAR