BEGIN:VCALENDAR
VERSION:2.0
PRODID:-//eventon.com NONSGML v1.0//EN
CALSCALE:GREGORIAN
METHOD:PUBLISH
BEGIN:VEVENT
UID:69e5e8dee054d
DTSTAMP:20260420T085038Z
DTSTART:20190319T200000Z
DTEND:20190319T235000Z
LOCATION:Arsonic\,  Rue de Nimy\,  138
SUMMARY:Traversées
DESCRIPTION:Five years ago\,  Constantinople &amp; Ablaye Cissoko embarked 
 upon the creation of their first concert and album\,  which they named thei
 r Jardins migrateurs (Itinerant Gardens). This exceptional harmony that exi
 sts today between their music and their selves has allowed them to create n
 ew works inspired by their shared voyages\,  their[..]\nhttps://constantino
 ple.ca/en/events/traversees-9/
URL:https://constantinople.ca/en/events/traversees-9/
END:VEVENT
END:VCALENDAR