BEGIN:VCALENDAR
VERSION:2.0
PRODID:-//eventon.com NONSGML v1.0//EN
CALSCALE:GREGORIAN
METHOD:PUBLISH
BEGIN:VEVENT
UID:69e5f23285fda
DTSTAMP:20260420T093026Z
DTSTART:20190301T193000Z
DTEND:20190301T235000Z
LOCATION:
SUMMARY:The Musical Voyages of Marco Polo
DESCRIPTION:A musical adventure onto the Silk Road\,  following the steps o
 f the celebrated Venetian merchant Marco Polo.\nhttps://constantinople.ca/e
 n/events/the-musical-voyages-of-marco-polo/
URL:https://constantinople.ca/en/events/the-musical-voyages-of-marco-polo/
END:VEVENT
END:VCALENDAR