BEGIN:VCALENDAR
VERSION:2.0
PRODID:-//eventon.com NONSGML v1.0//EN
CALSCALE:GREGORIAN
METHOD:PUBLISH
BEGIN:VEVENT
UID:69e77e7bd0297
DTSTAMP:20260421T134115Z
DTSTART:20190713T200000Z
DTEND:20190713T235000Z
LOCATION:Festival Nuits d&#039;Afrique\,  Gesù\,  1200 Bleury
SUMMARY:Traversées
DESCRIPTION:A meeting between strings and voices\,  from the Mandinka King
 dom to the Persian cultural heritage.\nhttps://constantinople.ca/en/events/
 traversees-13/
URL:https://constantinople.ca/en/events/traversees-13/
END:VEVENT
END:VCALENDAR