BEGIN:VCALENDAR
VERSION:2.0
PRODID:-//eventon.com NONSGML v1.0//EN
CALSCALE:GREGORIAN
METHOD:PUBLISH
BEGIN:VEVENT
UID:69e73b6bcad68
DTSTAMP:20260421T085507Z
DTSTART:20190806T213000Z
DTEND:20190806T235000Z
LOCATION:Rencontres musicales de Conques Abbaye de Loc Dieu\,  12200 Martiel\,  France
SUMMARY:Ciel de l'Inde
DESCRIPTION:Ciel de l’Inde nous transporte dans l’univers sublime et so
 phistiqué d’une civilisation musicale hors pair. Transmises oralement de
  génération en génération\,  les musiques de l’Inde\,  du Nord au Su
 d\,  sont une source inépuisable d’inspiration et de beauté avec leurs 
 ragas mélodieux\,  leurs rythmes et pulsations finement calculés\,  mais 
 hautement complexes\,  leurs[..]\nhttps://constantinople.ca/events/ciel-de-
 linde-5/
URL:https://constantinople.ca/events/ciel-de-linde-5/
END:VEVENT
END:VCALENDAR