BEGIN:VCALENDAR
VERSION:2.0
PRODID:-//eventon.com NONSGML v1.0//EN
CALSCALE:GREGORIAN
METHOD:PUBLISH
BEGIN:VEVENT
UID:69e795262f72a
DTSTAMP:20260421T151758Z
DTSTART:20191123T203000Z
DTEND:20191123T235000Z
LOCATION:La Spirale\,  Place du Petit-St-Jean 39\,  Fribourg
SUMMARY:Traversées
DESCRIPTION:Five years ago\,  Constantinople &amp; Ablaye Cissoko embarked 
 upon the creation of their first concert and album\,  which they named thei
 r Jardins migrateurs (Itinerant Gardens). This exceptional harmony that exi
 sts today between their music and their selves has allowed them to create n
 ew works inspired by their shared voyages\,  their[..]\nhttps://constantino
 ple.ca/en/events/traversees-25/
URL:https://constantinople.ca/en/events/traversees-25/
END:VEVENT
END:VCALENDAR