BEGIN:VCALENDAR
VERSION:2.0
PRODID:-//eventon.com NONSGML v1.0//EN
CALSCALE:GREGORIAN
METHOD:PUBLISH
BEGIN:VEVENT
UID:69e7abcf35820
DTSTAMP:20260421T165439Z
DTSTART:20191129T193000Z
DTEND:20191129T235000Z
LOCATION:Theater St-Gall\,  Museumstrasse 24\,  9004 St. Gallen\,  Suisse
SUMMARY:UNDER THE PERSIAN MUSICAL SKY
DESCRIPTION:Persian music\,  in continuous evolution for millennia\,  is an
  art that is at once tremendously refined\,  rich\,  and touching. With thi
 s concert\,  Constantinople’s Artistic Director Kiya Tabassian is returni
 ng to his musical roots and at the same time joining forces once again with
  the great musician Kayhan Kalhor\,  one of[..]\nhttps://constantinople.ca/
 en/events/under-the-persian-musical-sky-7/
URL:https://constantinople.ca/en/events/under-the-persian-musical-sky-7/
END:VEVENT
END:VCALENDAR