BEGIN:VCALENDAR
VERSION:2.0
PRODID:-//eventon.com NONSGML v1.0//EN
CALSCALE:GREGORIAN
METHOD:PUBLISH
BEGIN:VEVENT
UID:69e7ddd9b7ab7
DTSTAMP:20260421T202809Z
DTSTART:20191006T200000Z
DTEND:20191006T235000Z
LOCATION:Tivoli Vredenburg\,  Vredenburgkade 11\,  Utrecht
SUMMARY:Nomaden
DESCRIPTION:Nomaden\nhttps://constantinople.ca/en/events/nomaden-4/
URL:https://constantinople.ca/en/events/nomaden-4/
END:VEVENT
END:VCALENDAR