BEGIN:VCALENDAR
VERSION:2.0
PRODID:-//eventon.com NONSGML v1.0//EN
CALSCALE:GREGORIAN
METHOD:PUBLISH
BEGIN:VEVENT
UID:69e61452d1da1
DTSTAMP:20260420T115602Z
DTSTART:20200928T111000Z
DTEND:20200928T115500Z
LOCATION:Øster Jølby Friskole
SUMMARY:ANNULÉ // Ciel de l'Inde
DESCRIPTION:Ciel de l’Inde nous transporte dans l’univers sublime et so
 phistiqué d’une civilisation musicale hors pair. Transmises oralement de
  génération en génération\,  les musiques de l’Inde\,  du Nord au Su
 d\,  sont une source inépuisable d’inspiration et de beauté avec leurs 
 ragas mélodieux\,  leurs rythmes et pulsations finement calculés\,  mais 
 hautement complexes\,  leurs[..]\nhttps://constantinople.ca/events/ciel-de-
 linde-11/
URL:https://constantinople.ca/events/ciel-de-linde-11/
END:VEVENT
END:VCALENDAR